BEGIN:VCALENDAR
PRODID:-//Conference Center Version refs/heads/release/6.12//EN
VERSION:2.0
CALSCALE:GREGORIAN
METHOD:PUBLISH:REQUEST
BEGIN:VEVENT
DTSTART:20260505T123000Z
DTEND:20260505T133000Z
DTSTAMP:20210101T000000Z
ORGANIZER;CN=Rockwell Automation:MAILTO:ir@ra.rockwell.com
CLASS:PUBLIC
CREATED:20260420T055030
DESCRIPTION:https://events.q4inc.com/attendee/852547083/guest
LAST-MODIFIED:20260420T055030
LOCATION:Milwaukee
SEQUENCE:1
STATUS:CONFIRMED
SUMMARY:Q2 FY26 Earnings Conference Call
BEGIN:VALARM
TRIGGER:-PT15M
ACTION:DISPLAY
DESCRIPTION:Reminder
END:VALARM
TRANSP:OPAQUE
END:VEVENT
END:VCALENDAR